BEGIN:VCALENDAR
VERSION:2.0
PRODID:-//TYPO3/NONSGML Calendarize//EN
BEGIN:VEVENT
UID:calendarize-filles-et-sciences
DTSTAMP:20260420T104441Z
DTSTART;VALUE=DATE:20260423
DTEND;VALUE=DATE:20260424
SUMMARY:Filles et Sciences
DESCRIPTION: \nLa quatrième édition aura lieu le 23 avril 2026\, plus d
 e 190 jeunes filles\, élèves des collèges Villa Fal à Biarritz et Enda
 rra à Anglet\, et les lycées Etxepare et Largenté à Bayonne et Cantau 
 à Anglet\, investiront les locaux de l’ESTIA à Bidart pour la quatriè
 me édition de la rencontre Filles & Sciences.\nL’objectif des enseignan
 ts des cinq établissements invités et de l’ESTIA\, par la voix d’Aud
 rey ABI AKLE\, enseignante-chercheuse et Docteure en génie industriel\, r
 éférente égalité femmes-hommes à l’ESTIA\, est de lever les tabous 
 et encourager les vocations féminines pour les métiers de l’ingénieri
 e. Trois temps forts rythmeront cette journée : la visite de l’ESTIA et
  de ses plateformes\, une séance de rencontres en petits groupes avec des
  femmes ingénieures et étudiantes de l’ESTIA\, et enfin une conférenc
 e sur les idées reçues et les stéréotypes.\n 
X-ALT-DESC;FMTTYPE=text/html:<div class="text" style="-webkit-text-stroke-
 width:0px\;background-color:rgb(255\, 255\, 255)\;box-sizing:border-box\;c
 olor:rgb(33\, 37\, 41)\;font-family:Roboto\, helvetica\, arial\, sans-seri
 f\, system-ui\, -apple-system\, &quot\;Segoe UI&quot\;\, Roboto\, &quot\;H
 elvetica Neue&quot\;\, &quot\;Noto Sans&quot\;\, &quot\;Liberation Sans&qu
 ot\;\, Arial\, sans-serif\, &quot\;Apple Color Emoji&quot\;\, &quot\;Segoe
  UI Emoji&quot\;\, &quot\;Segoe UI Symbol&quot\;\, &quot\;Noto Color Emoji
 &quot\;\;font-size:16px\;font-style:normal\;font-variant-caps:normal\;font
 -variant-ligatures:normal\;font-weight:400\;letter-spacing:normal\;orphans
 :2\;text-align:start\;text-decoration-color:initial\;text-decoration-style
 :initial\;text-decoration-thickness:initial\;text-indent:0px\;text-transfo
 rm:none\;white-space:normal\;widows:2\;word-spacing:0px\;" itemprop="descr
 iption"><p class="text-justify">&nbsp\;</p>\n<p class="text-justify"><stro
 ng style="box-sizing:border-box\;">La quatrième édition aura lieu </stro
 ng>le <strong style="box-sizing:border-box\;">23 avril 2026</strong>\, plu
 s de 190 jeunes filles\, élèves des collèges Villa Fal à Biarritz et E
 ndarra à Anglet\, et les lycées Etxepare et Largenté à Bayonne et Cant
 au à Anglet\, investiront les locaux de l’ESTIA à Bidart pour la quatr
 ième édition de la rencontre Filles &amp\; Sciences.</p>\n<p class="text
 -justify">L’objectif des enseignants des cinq établissements invités e
 t de l’ESTIA\, par la voix d’Audrey ABI AKLE\, enseignante-chercheuse 
 et Docteure en génie industriel\, référente égalité femmes-hommes à 
 l’ESTIA\, est de lever les tabous et encourager les vocations féminines
  pour les métiers de l’ingénierie. Trois temps forts rythmeront cette 
 journée : la visite de l’ESTIA et de ses plateformes\, une séance de r
 encontres en petits groupes avec des femmes ingénieures et étudiantes de
  l’ESTIA\, et enfin une conférence sur les idées reçues et les stéré
 otypes.</p></div>\n<dl class="dl-horizontal meta" style="-webkit-text-stro
 ke-width:0px\;background-color:rgb(255\, 255\, 255)\;box-sizing:border-box
 \;color:rgb(33\, 37\, 41)\;font-family:Roboto\, helvetica\, arial\, sans-s
 erif\, system-ui\, -apple-system\, &quot\;Segoe UI&quot\;\, Roboto\, &quot
 \;Helvetica Neue&quot\;\, &quot\;Noto Sans&quot\;\, &quot\;Liberation Sans
 &quot\;\, Arial\, sans-serif\, &quot\;Apple Color Emoji&quot\;\, &quot\;Se
 goe UI Emoji&quot\;\, &quot\;Segoe UI Symbol&quot\;\, &quot\;Noto Color Em
 oji&quot\;\;font-size:16px\;font-style:normal\;font-variant-caps:normal\;f
 ont-variant-ligatures:normal\;font-weight:400\;letter-spacing:normal\;marg
 in-bottom:1rem\;margin-top:0px\;orphans:2\;text-align:start\;text-decorati
 on-color:initial\;text-decoration-style:initial\;text-decoration-thickness
 :initial\;text-indent:0px\;text-transform:none\;white-space:normal\;widows
 :2\;word-spacing:0px\;">&nbsp\;</dl>
LOCATION:ESTIA
END:VEVENT
END:VCALENDAR
